BEGIN:VCALENDAR
PROID:www.nahouw.net
VERSION:1.0
UID:nahouw-2026-05-31-championnats-d-afrique-f9b0216c-cd0b7961
BEGIN:VEVENT
SUMMARY:Championnats d'Afrique
DESCRIPTION;ENCODING=QUOTED-PRINTABLE:Championnats d'Afrique
URL:https://www.nahouw.net/tournament/trn/f9b0216c/championnats-d-afrique.html
ATTACH;VALUE=URL:https://www.nahouw.net/tournament/trn/f9b0216c/championnats-d-afrique.html
DTSTART:20260531
DURATION:P7D
LOCATION:Abidjan, Cote d'Ivoire
END:VEVENT
END:VCALENDAR
