BEGIN:VCALENDAR
PROID:www.nahouw.net
VERSION:1.0
UID:nahouw-2027-01-30-little-owl-cup-f9a34e65-cd0b7961
BEGIN:VEVENT
SUMMARY:Little Owl Cup
DESCRIPTION;ENCODING=QUOTED-PRINTABLE:Little Owl Cup
URL:https://www.nahouw.net/tournament/trn/f9a34e65/little-owl-cup.html
ATTACH;VALUE=URL:https://www.nahouw.net/tournament/trn/f9a34e65/little-owl-cup.html
DTSTART:20270130
DURATION:P2D
LOCATION:Ludwigshafen - Friesenheim, Germany
END:VEVENT
END:VCALENDAR
