BEGIN:VCALENDAR
PROID:www.nahouw.net
VERSION:1.0
UID:nahouw-2026-04-25-u14-circuit-barcelona-f811f23a-cd0b7961
BEGIN:VEVENT
SUMMARY:U14 Circuit Barcelona
DESCRIPTION;ENCODING=QUOTED-PRINTABLE:U14 Circuit Barcelona
URL:https://www.nahouw.net/tournament/trn/f811f23a/u14-circuit-barcelona.html
ATTACH;VALUE=URL:https://www.nahouw.net/tournament/trn/f811f23a/u14-circuit-barcelona.html
DTSTART:20260425
DURATION:P2D
LOCATION:Barcelona, Spain
END:VEVENT
END:VCALENDAR
