BEGIN:VCALENDAR
PROID:www.nahouw.net
VERSION:1.0
UID:nahouw-2026-05-16-u14-circuit-sofia-epee-f5eabb50-cd0b7961
BEGIN:VEVENT
SUMMARY:U14 Circuit Sofia epee
DESCRIPTION;ENCODING=QUOTED-PRINTABLE:U14 Circuit Sofia epee
URL:https://www.nahouw.net/tournament/trn/f5eabb50/u14-circuit-sofia-epee.html
ATTACH;VALUE=URL:https://www.nahouw.net/tournament/trn/f5eabb50/u14-circuit-sofia-epee.html
DTSTART:20260516
DURATION:P2D
LOCATION:Sofia, Bulgaria
END:VEVENT
END:VCALENDAR
