BEGIN:VCALENDAR
PROID:www.nahouw.net
VERSION:1.0
UID:nahouw-2026-05-01-2026-allstar-deutschland-challenge-f19f0142-cd0b7961
BEGIN:VEVENT
SUMMARY:2026 Allstar Deutschland Challenge
DESCRIPTION;ENCODING=QUOTED-PRINTABLE:2026 Allstar Deutschland Challenge
URL:https://www.nahouw.net/tournament/trn/f19f0142/2026-allstar-deutschland-challenge.html
ATTACH;VALUE=URL:https://www.nahouw.net/tournament/trn/f19f0142/2026-allstar-deutschland-challenge.html
DTSTART:20260501
DURATION:P2D
LOCATION:Dormagen, Germany
END:VEVENT
END:VCALENDAR
