BEGIN:VCALENDAR
PROID:www.nahouw.net
VERSION:1.0
UID:nahouw-2026-04-25-5-epee-day-of-homburg-f1828392-cd0b7961
BEGIN:VEVENT
SUMMARY:5 Epee Day of Homburg
DESCRIPTION;ENCODING=QUOTED-PRINTABLE:5 Epee Day of Homburg
URL:https://www.nahouw.net/tournament/trn/f1828392/5-epee-day-of-homburg.html
ATTACH;VALUE=URL:https://www.nahouw.net/tournament/trn/f1828392/5-epee-day-of-homburg.html
DTSTART:20260425
DURATION:P2D
LOCATION:Homburg, Germany
END:VEVENT
END:VCALENDAR
