BEGIN:VCALENDAR
PROID:www.nahouw.net
VERSION:1.0
UID:nahouw-2026-06-06-cup-epee-ecd13c9b-cd0b7961
BEGIN:VEVENT
SUMMARY:Cup Epee
DESCRIPTION;ENCODING=QUOTED-PRINTABLE:Cup Epee
URL:https://www.nahouw.net/tournament/trn/ecd13c9b/cup-epee.html
ATTACH;VALUE=URL:https://www.nahouw.net/tournament/trn/ecd13c9b/cup-epee.html
DTSTART:20260606
DURATION:P2D
LOCATION:Ludwigshafen - Friesenheim, Germany
END:VEVENT
END:VCALENDAR
