BEGIN:VCALENDAR
PROID:www.nahouw.net
VERSION:1.0
UID:nahouw-2026-04-25-4-smile-best-cup-ecc4cc91-cd0b7961
BEGIN:VEVENT
SUMMARY:4 Smile Best Cup
DESCRIPTION;ENCODING=QUOTED-PRINTABLE:4 Smile Best Cup
URL:https://www.nahouw.net/tournament/trn/ecc4cc91/4-smile-best-cup.html
ATTACH;VALUE=URL:https://www.nahouw.net/tournament/trn/ecc4cc91/4-smile-best-cup.html
DTSTART:20260425
DURATION:P2D
LOCATION:Homburg, Germany
END:VEVENT
END:VCALENDAR
