BEGIN:VCALENDAR
PROID:www.nahouw.net
VERSION:1.0
UID:nahouw-2026-06-13-4-ikk-sudwest-open-air-challenge-2026-d416cb91-cd0b7961
BEGIN:VEVENT
SUMMARY:4 IKK Südwest Open Air Challenge 2026
DESCRIPTION;ENCODING=QUOTED-PRINTABLE:4 IKK Südwest Open Air Challenge 2026
URL:https://www.nahouw.net/tournament/trn/d416cb91/4-ikk-sudwest-open-air-challenge-2026.html
ATTACH;VALUE=URL:https://www.nahouw.net/tournament/trn/d416cb91/4-ikk-sudwest-open-air-challenge-2026.html
DTSTART:20260613
DURATION:P1D
LOCATION:Weiskirchen, Germany
END:VEVENT
END:VCALENDAR
