BEGIN:VCALENDAR
PROID:www.nahouw.net
VERSION:1.0
UID:nahouw-2026-05-02-2026-open-central-european-championships-2026-open-championships-of-east-saxonia-d2de9369-cd0b7961
BEGIN:VEVENT
SUMMARY:2026 Open Central European Championships / 2026 Open Championships of East Saxonia
DESCRIPTION;ENCODING=QUOTED-PRINTABLE:2026 Open Central European Championships / 2026 Open Championships of East Saxonia
URL:https://www.nahouw.net/tournament/trn/d2de9369/2026-open-central-european-championships-2026-open-championships-of-east-saxonia.html
ATTACH;VALUE=URL:https://www.nahouw.net/tournament/trn/d2de9369/2026-open-central-european-championships-2026-open-championships-of-east-saxonia.html
DTSTART:20260502
DURATION:P2D
LOCATION:Bautzen, Germany
END:VEVENT
END:VCALENDAR
