BEGIN:VCALENDAR
PROID:www.nahouw.net
VERSION:1.0
UID:nahouw-2026-04-25-1-oranien-pokal-d01c6418-cd0b7961
BEGIN:VEVENT
SUMMARY:1 Oranien-Pokal
DESCRIPTION;ENCODING=QUOTED-PRINTABLE:1 Oranien-Pokal
URL:https://www.nahouw.net/tournament/trn/d01c6418/1-oranien-pokal.html
ATTACH;VALUE=URL:https://www.nahouw.net/tournament/trn/d01c6418/1-oranien-pokal.html
DTSTART:20260425
DURATION:P2D
LOCATION:Oranienburg, Germany
END:VEVENT
END:VCALENDAR
