BEGIN:VCALENDAR
PROID:www.nahouw.net
VERSION:1.0
UID:nahouw-2026-11-22-owls-cup-ce7f66-cd0b7961
BEGIN:VEVENT
SUMMARY:Owls Cup
DESCRIPTION;ENCODING=QUOTED-PRINTABLE:Owls Cup
URL:https://www.nahouw.net/tournament/trn/ce7f66/owls-cup.html
ATTACH;VALUE=URL:https://www.nahouw.net/tournament/trn/ce7f66/owls-cup.html
DTSTART:20261122
DURATION:P1D
LOCATION:Ludwigshafen-Friesenheim, Germany
END:VEVENT
END:VCALENDAR
