BEGIN:VCALENDAR
PROID:www.nahouw.net
VERSION:1.0
UID:nahouw-2026-05-03-17e-delftse-tegeltjestoernooi-c1103281-cd0b7961
BEGIN:VEVENT
SUMMARY:17e Delftse Tegeltjestoernooi
DESCRIPTION;ENCODING=QUOTED-PRINTABLE:17e Delftse Tegeltjestoernooi
URL:https://www.nahouw.net/tournament/trn/c1103281/17e-delftse-tegeltjestoernooi.html
ATTACH;VALUE=URL:https://www.nahouw.net/tournament/trn/c1103281/17e-delftse-tegeltjestoernooi.html
DTSTART:20260503
DURATION:P1D
LOCATION:Mekelweg 8, 2628 CD, Delft, Netherlands
END:VEVENT
END:VCALENDAR
