BEGIN:VCALENDAR
PROID:www.nahouw.net
VERSION:1.0
UID:nahouw-2026-11-21-memoriam-a-dubyago-formely-lion-of-pfalz-be002967-cd0b7961
BEGIN:VEVENT
SUMMARY:Memoriam A. Dubyago (formely Lion of Pfalz)
DESCRIPTION;ENCODING=QUOTED-PRINTABLE:Memoriam A. Dubyago (formely Lion of Pfalz)
URL:https://www.nahouw.net/tournament/trn/be002967/memoriam-a-dubyago-formely-lion-of-pfalz.html
ATTACH;VALUE=URL:https://www.nahouw.net/tournament/trn/be002967/memoriam-a-dubyago-formely-lion-of-pfalz.html
DTSTART:20261121
DURATION:P1D
LOCATION:Ludwigshafen-Friesenheim, Germany
END:VEVENT
END:VCALENDAR
