BEGIN:VCALENDAR
PROID:www.nahouw.net
VERSION:1.0
UID:nahouw-2027-05-29-cup-epee-b41d9c64-cd0b7961
BEGIN:VEVENT
SUMMARY:Cup Epee
DESCRIPTION;ENCODING=QUOTED-PRINTABLE:Cup Epee
URL:https://www.nahouw.net/tournament/trn/b41d9c64/cup-epee.html
ATTACH;VALUE=URL:https://www.nahouw.net/tournament/trn/b41d9c64/cup-epee.html
DTSTART:20270529
DURATION:P2D
LOCATION:Ludwigshafen - Friesenheim, Germany
END:VEVENT
END:VCALENDAR
