BEGIN:VCALENDAR
PROID:www.nahouw.net
VERSION:1.0
UID:nahouw-2026-04-25-salve-cup-a82b7866-cd0b7961
BEGIN:VEVENT
SUMMARY:Salve-Cup
DESCRIPTION;ENCODING=QUOTED-PRINTABLE:Salve-Cup
URL:https://www.nahouw.net/tournament/trn/a82b7866/salve-cup.html
ATTACH;VALUE=URL:https://www.nahouw.net/tournament/trn/a82b7866/salve-cup.html
DTSTART:20260425
DURATION:P2D
LOCATION:Weimar, Germany
END:VEVENT
END:VCALENDAR
