BEGIN:VCALENDAR
PROID:www.nahouw.net
VERSION:1.0
UID:nahouw-2026-04-25-european-championships-u23-a75714d3-cd0b7961
BEGIN:VEVENT
SUMMARY:European Championships U23
DESCRIPTION;ENCODING=QUOTED-PRINTABLE:European Championships U23
URL:https://www.nahouw.net/tournament/trn/a75714d3/european-championships-u23.html
ATTACH;VALUE=URL:https://www.nahouw.net/tournament/trn/a75714d3/european-championships-u23.html
DTSTART:20260425
DURATION:P4D
LOCATION:Cagliari, Italy
END:VEVENT
END:VCALENDAR
