BEGIN:VCALENDAR
PROID:www.nahouw.net
VERSION:1.0
UID:nahouw-2026-07-22-world-championships-a371776b-cd0b7961
BEGIN:VEVENT
SUMMARY:World Championships
DESCRIPTION;ENCODING=QUOTED-PRINTABLE:World Championships
URL:https://www.nahouw.net/tournament/trn/a371776b/world-championships.html
ATTACH;VALUE=URL:https://www.nahouw.net/tournament/trn/a371776b/world-championships.html
DTSTART:20260722
DURATION:P9D
LOCATION:Hong Kong, Hong Kong
END:VEVENT
END:VCALENDAR
