BEGIN:VCALENDAR
PROID:www.nahouw.net
VERSION:1.0
UID:nahouw-2026-04-24-open-championships-of-saxony-anhalt-9a815e5b-cd0b7961
BEGIN:VEVENT
SUMMARY:Open Championships of Saxony-Anhalt
DESCRIPTION;ENCODING=QUOTED-PRINTABLE:Open Championships of Saxony-Anhalt
URL:https://www.nahouw.net/tournament/trn/9a815e5b/open-championships-of-saxony-anhalt.html
ATTACH;VALUE=URL:https://www.nahouw.net/tournament/trn/9a815e5b/open-championships-of-saxony-anhalt.html
DTSTART:20260424
DURATION:P2D
LOCATION:Merseburg, Germany
END:VEVENT
END:VCALENDAR
