BEGIN:VCALENDAR
PROID:www.nahouw.net
VERSION:1.0
UID:nahouw-2026-06-06-2026-cup-of-thuringia-finale-91d8f49c-cd0b7961
BEGIN:VEVENT
SUMMARY:2026 Cup of Thuringia Finale
DESCRIPTION;ENCODING=QUOTED-PRINTABLE:2026 Cup of Thuringia Finale
URL:https://www.nahouw.net/tournament/trn/91d8f49c/2026-cup-of-thuringia-finale.html
ATTACH;VALUE=URL:https://www.nahouw.net/tournament/trn/91d8f49c/2026-cup-of-thuringia-finale.html
DTSTART:20260606
DURATION:P1D
LOCATION:Erfurt, Germany
END:VEVENT
END:VCALENDAR
