BEGIN:VCALENDAR
PROID:www.nahouw.net
VERSION:1.0
UID:nahouw-2026-05-02-evf-circuit-chania-crete-gre-9183d3ee-cd0b7961
BEGIN:VEVENT
SUMMARY:EVF Circuit – Chania Crete (GRE)
DESCRIPTION;ENCODING=QUOTED-PRINTABLE:EVF Circuit – Chania Crete (GRE)
URL:https://www.nahouw.net/tournament/trn/9183d3ee/evf-circuit-chania-crete-gre.html
ATTACH;VALUE=URL:https://www.nahouw.net/tournament/trn/9183d3ee/evf-circuit-chania-crete-gre.html
DTSTART:20260502
DURATION:P2D
LOCATION:Chania Crete, Greece
END:VEVENT
END:VCALENDAR
