BEGIN:VCALENDAR
PROID:www.nahouw.net
VERSION:1.0
UID:nahouw-2026-11-21-memoriam-ed-krapp-8e305660-cd0b7961
BEGIN:VEVENT
SUMMARY:Memoriam Ed. Krapp
DESCRIPTION;ENCODING=QUOTED-PRINTABLE:Memoriam Ed. Krapp
URL:https://www.nahouw.net/tournament/trn/8e305660/memoriam-ed-krapp.html
ATTACH;VALUE=URL:https://www.nahouw.net/tournament/trn/8e305660/memoriam-ed-krapp.html
DTSTART:20261121
DURATION:P2D
LOCATION:Ludwigshafen-Friesenheim, Germany
END:VEVENT
END:VCALENDAR
