BEGIN:VCALENDAR
PROID:www.nahouw.net
VERSION:1.0
UID:nahouw-2026-06-14-championnats-panamericains-8be4d26d-cd0b7961
BEGIN:VEVENT
SUMMARY:Championnats Panaméricains
DESCRIPTION;ENCODING=QUOTED-PRINTABLE:Championnats Panaméricains
URL:https://www.nahouw.net/tournament/trn/8be4d26d/championnats-panamericains.html
ATTACH;VALUE=URL:https://www.nahouw.net/tournament/trn/8be4d26d/championnats-panamericains.html
DTSTART:20260614
DURATION:P8D
LOCATION:Lima, Peru
END:VEVENT
END:VCALENDAR
