BEGIN:VCALENDAR
PROID:www.nahouw.net
VERSION:1.0
UID:nahouw-2026-04-25-12-helmut-schiller-cup-889e6537-cd0b7961
BEGIN:VEVENT
SUMMARY:12 Helmut Schiller Cup
DESCRIPTION;ENCODING=QUOTED-PRINTABLE:12 Helmut Schiller Cup
URL:https://www.nahouw.net/tournament/trn/889e6537/12-helmut-schiller-cup.html
ATTACH;VALUE=URL:https://www.nahouw.net/tournament/trn/889e6537/12-helmut-schiller-cup.html
DTSTART:20260425
DURATION:P2D
LOCATION:Villingen, Germany
END:VEVENT
END:VCALENDAR
