BEGIN:VCALENDAR
PROID:www.nahouw.net
VERSION:1.0
UID:nahouw-2026-04-26-ferrum-vetus-2-2026-878fb0f0-cd0b7961
BEGIN:VEVENT
SUMMARY:Ferrum Vetus 2 - 2026
DESCRIPTION;ENCODING=QUOTED-PRINTABLE:Ferrum Vetus 2 - 2026
URL:https://www.nahouw.net/tournament/trn/878fb0f0/ferrum-vetus-2-2026.html
ATTACH;VALUE=URL:https://www.nahouw.net/tournament/trn/878fb0f0/ferrum-vetus-2-2026.html
DTSTART:20260426
DURATION:P1D
LOCATION:Marijkeweg 23, 6709 PE, Wageningen, Netherlands
END:VEVENT
END:VCALENDAR
