BEGIN:VCALENDAR
PROID:www.nahouw.net
VERSION:1.0
UID:nahouw-2026-06-13-9-esslinger-burg-cup-86fd47e6-cd0b7961
BEGIN:VEVENT
SUMMARY:9 Esslinger Burg-Cup
DESCRIPTION;ENCODING=QUOTED-PRINTABLE:9 Esslinger Burg-Cup
URL:https://www.nahouw.net/tournament/trn/86fd47e6/9-esslinger-burg-cup.html
ATTACH;VALUE=URL:https://www.nahouw.net/tournament/trn/86fd47e6/9-esslinger-burg-cup.html
DTSTART:20260613
DURATION:P2D
LOCATION:Esslingen, Germany
END:VEVENT
END:VCALENDAR
