BEGIN:VCALENDAR
PROID:www.nahouw.net
VERSION:1.0
UID:nahouw-2026-05-22-coupe-du-monde-coupe-du-monde-par-equipes-7e70ed7d-cd0b7961
BEGIN:VEVENT
SUMMARY:Coupe du Monde / Coupe du Monde par équipes
DESCRIPTION;ENCODING=QUOTED-PRINTABLE:Coupe du Monde / Coupe du Monde par équipes
URL:https://www.nahouw.net/tournament/trn/7e70ed7d/coupe-du-monde-coupe-du-monde-par-equipes.html
ATTACH;VALUE=URL:https://www.nahouw.net/tournament/trn/7e70ed7d/coupe-du-monde-coupe-du-monde-par-equipes.html
DTSTART:20260522
DURATION:P3D
LOCATION:Bern, Switzerland
END:VEVENT
END:VCALENDAR
