BEGIN:VCALENDAR
PROID:www.nahouw.net
VERSION:1.0
UID:nahouw-2026-05-24-11-open-veterans-championship-of-saxony-2026-77e16f70-cd0b7961
BEGIN:VEVENT
SUMMARY:11 Open Veterans Championship of Saxony 2026
DESCRIPTION;ENCODING=QUOTED-PRINTABLE:11 Open Veterans Championship of Saxony 2026
URL:https://www.nahouw.net/tournament/trn/77e16f70/11-open-veterans-championship-of-saxony-2026.html
ATTACH;VALUE=URL:https://www.nahouw.net/tournament/trn/77e16f70/11-open-veterans-championship-of-saxony-2026.html
DTSTART:20260524
DURATION:P1D
LOCATION:Radebeul, Germany
END:VEVENT
END:VCALENDAR
