BEGIN:VCALENDAR
PROID:www.nahouw.net
VERSION:1.0
UID:nahouw-2026-05-09-marathon-of-epee-6de79a21-cd0b7961
BEGIN:VEVENT
SUMMARY:Marathon of Epee
DESCRIPTION;ENCODING=QUOTED-PRINTABLE:Marathon of Epee
URL:https://www.nahouw.net/tournament/trn/6de79a21/marathon-of-epee.html
ATTACH;VALUE=URL:https://www.nahouw.net/tournament/trn/6de79a21/marathon-of-epee.html
DTSTART:20260509
DURATION:P1D
LOCATION:Saalfeld, Germany
END:VEVENT
END:VCALENDAR
