BEGIN:VCALENDAR
PROID:www.nahouw.net
VERSION:1.0
UID:nahouw-2026-04-25-2026-sabelmeeting-6665d14e-cd0b7961
BEGIN:VEVENT
SUMMARY:2026 Säbelmeeting
DESCRIPTION;ENCODING=QUOTED-PRINTABLE:2026 Säbelmeeting
URL:https://www.nahouw.net/tournament/trn/6665d14e/2026-sabelmeeting.html
ATTACH;VALUE=URL:https://www.nahouw.net/tournament/trn/6665d14e/2026-sabelmeeting.html
DTSTART:20260425
DURATION:P1D
LOCATION:Berlin, Germany
END:VEVENT
END:VCALENDAR
