BEGIN:VCALENDAR
PROID:www.nahouw.net
VERSION:1.0
UID:nahouw-2026-06-16-championnats-d-europe-598c9469-cd0b7961
BEGIN:VEVENT
SUMMARY:Championnats d'Europe
DESCRIPTION;ENCODING=QUOTED-PRINTABLE:Championnats d'Europe
URL:https://www.nahouw.net/tournament/trn/598c9469/championnats-d-europe.html
ATTACH;VALUE=URL:https://www.nahouw.net/tournament/trn/598c9469/championnats-d-europe.html
DTSTART:20260616
DURATION:P6D
LOCATION:Antony, France
END:VEVENT
END:VCALENDAR
