BEGIN:VCALENDAR
PROID:www.nahouw.net
VERSION:1.0
UID:nahouw-2026-05-15-grand-prix-588e3d9b-cd0b7961
BEGIN:VEVENT
SUMMARY:Grand Prix
DESCRIPTION;ENCODING=QUOTED-PRINTABLE:Grand Prix
URL:https://www.nahouw.net/tournament/trn/588e3d9b/grand-prix.html
ATTACH;VALUE=URL:https://www.nahouw.net/tournament/trn/588e3d9b/grand-prix.html
DTSTART:20260515
DURATION:P3D
LOCATION:Shanghai, China
END:VEVENT
END:VCALENDAR
