BEGIN:VCALENDAR
PROID:www.nahouw.net
VERSION:1.0
UID:nahouw-2026-06-13-u14-circuit-burgas-56196156-cd0b7961
BEGIN:VEVENT
SUMMARY:U14 Circuit Burgas
DESCRIPTION;ENCODING=QUOTED-PRINTABLE:U14 Circuit Burgas
URL:https://www.nahouw.net/tournament/trn/56196156/u14-circuit-burgas.html
ATTACH;VALUE=URL:https://www.nahouw.net/tournament/trn/56196156/u14-circuit-burgas.html
DTSTART:20260613
DURATION:P2D
LOCATION:Burgas, Bulgaria
END:VEVENT
END:VCALENDAR
