BEGIN:VCALENDAR
PROID:www.nahouw.net
VERSION:1.0
UID:nahouw-2026-04-25-24-hansel-und-gretel-turnier-5531204d-cd0b7961
BEGIN:VEVENT
SUMMARY:24 Hänsel-und-Gretel-Turnier
DESCRIPTION;ENCODING=QUOTED-PRINTABLE:24 Hänsel-und-Gretel-Turnier
URL:https://www.nahouw.net/tournament/trn/5531204d/24-hansel-und-gretel-turnier.html
ATTACH;VALUE=URL:https://www.nahouw.net/tournament/trn/5531204d/24-hansel-und-gretel-turnier.html
DTSTART:20260425
DURATION:P1D
LOCATION:Berlin, Germany
END:VEVENT
END:VCALENDAR
