BEGIN:VCALENDAR
PROID:www.nahouw.net
VERSION:1.0
UID:nahouw-2026-04-26-9-cup-epee-of-villingen-54a98230-cd0b7961
BEGIN:VEVENT
SUMMARY:9 Cup Epee of Villingen
DESCRIPTION;ENCODING=QUOTED-PRINTABLE:9 Cup Epee of Villingen
URL:https://www.nahouw.net/tournament/trn/54a98230/9-cup-epee-of-villingen.html
ATTACH;VALUE=URL:https://www.nahouw.net/tournament/trn/54a98230/9-cup-epee-of-villingen.html
DTSTART:20260426
DURATION:P1D
LOCATION:Villingen, Germany
END:VEVENT
END:VCALENDAR
