BEGIN:VCALENDAR
PROID:www.nahouw.net
VERSION:1.0
UID:nahouw-2026-05-09-u23-circuit-sofia-4c9aeba1-cd0b7961
BEGIN:VEVENT
SUMMARY:U23 Circuit Sofia
DESCRIPTION;ENCODING=QUOTED-PRINTABLE:U23 Circuit Sofia
URL:https://www.nahouw.net/tournament/trn/4c9aeba1/u23-circuit-sofia.html
ATTACH;VALUE=URL:https://www.nahouw.net/tournament/trn/4c9aeba1/u23-circuit-sofia.html
DTSTART:20260509
DURATION:P2D
LOCATION:Sofia, Bulgaria
END:VEVENT
END:VCALENDAR
