BEGIN:VCALENDAR
PROID:www.nahouw.net
VERSION:1.0
UID:nahouw-2026-05-30-evf-circuit-dublin-irl-477d4984-cd0b7961
BEGIN:VEVENT
SUMMARY:EVF Circuit – Dublin (IRL)
DESCRIPTION;ENCODING=QUOTED-PRINTABLE:EVF Circuit – Dublin (IRL)
URL:https://www.nahouw.net/tournament/trn/477d4984/evf-circuit-dublin-irl.html
ATTACH;VALUE=URL:https://www.nahouw.net/tournament/trn/477d4984/evf-circuit-dublin-irl.html
DTSTART:20260530
DURATION:P2D
LOCATION:Dublin, Ireland
END:VEVENT
END:VCALENDAR
