BEGIN:VCALENDAR
PROID:www.nahouw.net
VERSION:1.0
UID:nahouw-2026-04-25-das-einhorn-von-moers-42d5eb7d-cd0b7961
BEGIN:VEVENT
SUMMARY:Das Einhorn von Moers
DESCRIPTION;ENCODING=QUOTED-PRINTABLE:Das Einhorn von Moers
URL:https://www.nahouw.net/tournament/trn/42d5eb7d/das-einhorn-von-moers.html
ATTACH;VALUE=URL:https://www.nahouw.net/tournament/trn/42d5eb7d/das-einhorn-von-moers.html
DTSTART:20260425
DURATION:P2D
LOCATION:Moers, Germany
END:VEVENT
END:VCALENDAR
