BEGIN:VCALENDAR
PROID:www.nahouw.net
VERSION:1.0
UID:nahouw-2026-05-23-u14-circuit-grodzisk-3af6a33b-cd0b7961
BEGIN:VEVENT
SUMMARY:U14 Circuit Grodzisk
DESCRIPTION;ENCODING=QUOTED-PRINTABLE:U14 Circuit Grodzisk
URL:https://www.nahouw.net/tournament/trn/3af6a33b/u14-circuit-grodzisk.html
ATTACH;VALUE=URL:https://www.nahouw.net/tournament/trn/3af6a33b/u14-circuit-grodzisk.html
DTSTART:20260523
DURATION:P2D
LOCATION:Grodzisk, Poland
END:VEVENT
END:VCALENDAR
