BEGIN:VCALENDAR
PROID:www.nahouw.net
VERSION:1.0
UID:nahouw-2026-05-09-sanssouci-cup-allstar-deutschland-challenge-380f3bfd-cd0b7961
BEGIN:VEVENT
SUMMARY:Sanssouci Cup / Allstar Deutschland Challenge
DESCRIPTION;ENCODING=QUOTED-PRINTABLE:Sanssouci Cup / Allstar Deutschland Challenge
URL:https://www.nahouw.net/tournament/trn/380f3bfd/sanssouci-cup-allstar-deutschland-challenge.html
ATTACH;VALUE=URL:https://www.nahouw.net/tournament/trn/380f3bfd/sanssouci-cup-allstar-deutschland-challenge.html
DTSTART:20260509
DURATION:P2D
LOCATION:Potsdam, Germany
END:VEVENT
END:VCALENDAR
