BEGIN:VCALENDAR
PROID:www.nahouw.net
VERSION:1.0
UID:nahouw-2026-04-25-u14-circuit-zrenjanin-37766951-cd0b7961
BEGIN:VEVENT
SUMMARY:U14 Circuit Zrenjanin
DESCRIPTION;ENCODING=QUOTED-PRINTABLE:U14 Circuit Zrenjanin
URL:https://www.nahouw.net/tournament/trn/37766951/u14-circuit-zrenjanin.html
ATTACH;VALUE=URL:https://www.nahouw.net/tournament/trn/37766951/u14-circuit-zrenjanin.html
DTSTART:20260425
DURATION:P2D
LOCATION:Zrenjanin, Serbia
END:VEVENT
END:VCALENDAR
