BEGIN:VCALENDAR
PROID:www.nahouw.net
VERSION:1.0
UID:nahouw-2026-04-25-2026-championships-of-baden-sud-2416bc31-cd0b7961
BEGIN:VEVENT
SUMMARY:2026 Championships of Baden-Süd
DESCRIPTION;ENCODING=QUOTED-PRINTABLE:2026 Championships of Baden-Süd
URL:https://www.nahouw.net/tournament/trn/2416bc31/2026-championships-of-baden-sud.html
ATTACH;VALUE=URL:https://www.nahouw.net/tournament/trn/2416bc31/2026-championships-of-baden-sud.html
DTSTART:20260425
DURATION:P1D
LOCATION:Villingen, Germany
END:VEVENT
END:VCALENDAR
