BEGIN:VCALENDAR
PROID:www.nahouw.net
VERSION:1.0
UID:nahouw-2026-05-30-u14-circuit-lausanne-1d501057-cd0b7961
BEGIN:VEVENT
SUMMARY:U14 Circuit Lausanne
DESCRIPTION;ENCODING=QUOTED-PRINTABLE:U14 Circuit Lausanne
URL:https://www.nahouw.net/tournament/trn/1d501057/u14-circuit-lausanne.html
ATTACH;VALUE=URL:https://www.nahouw.net/tournament/trn/1d501057/u14-circuit-lausanne.html
DTSTART:20260530
DURATION:P2D
LOCATION:Lausanne, Switzerland
END:VEVENT
END:VCALENDAR
