BEGIN:VCALENDAR
PROID:www.nahouw.net
VERSION:1.0
UID:nahouw-2026-05-02-ingolstadter-fechtpanther-1782ec7d-cd0b7961
BEGIN:VEVENT
SUMMARY:Ingolstädter Fechtpanther
DESCRIPTION;ENCODING=QUOTED-PRINTABLE:Ingolstädter Fechtpanther
URL:https://www.nahouw.net/tournament/trn/1782ec7d/ingolstadter-fechtpanther.html
ATTACH;VALUE=URL:https://www.nahouw.net/tournament/trn/1782ec7d/ingolstadter-fechtpanther.html
DTSTART:20260502
DURATION:P2D
LOCATION:Ingolstadt, Germany
END:VEVENT
END:VCALENDAR
