BEGIN:VCALENDAR
PROID:www.nahouw.net
VERSION:1.0
UID:nahouw-2026-06-13-2026-international-sabre-competition-of-dortmund-1245241-cd0b7961
BEGIN:VEVENT
SUMMARY:2026 International Sabre Competition of Dortmund
DESCRIPTION;ENCODING=QUOTED-PRINTABLE:2026 International Sabre Competition of Dortmund
URL:https://www.nahouw.net/tournament/trn/1245241/2026-international-sabre-competition-of-dortmund.html
ATTACH;VALUE=URL:https://www.nahouw.net/tournament/trn/1245241/2026-international-sabre-competition-of-dortmund.html
DTSTART:20260613
DURATION:P2D
LOCATION:Dortmund, Germany
END:VEVENT
END:VCALENDAR
